BEGIN:VCALENDAR
VERSION:2.0
PRODID:-// - ECPv6.15.13.1//NONSGML v1.0//EN
CALSCALE:GREGORIAN
METHOD:PUBLISH
X-ORIGINAL-URL:https://www.macc.ws
X-WR-CALDESC:Events for 
REFRESH-INTERVAL;VALUE=DURATION:PT1H
X-Robots-Tag:noindex
X-PUBLISHED-TTL:PT1H
BEGIN:VTIMEZONE
TZID:America/Chicago
BEGIN:DAYLIGHT
TZOFFSETFROM:-0600
TZOFFSETTO:-0500
TZNAME:CDT
DTSTART:20190310T080000
END:DAYLIGHT
BEGIN:STANDARD
TZOFFSETFROM:-0500
TZOFFSETTO:-0600
TZNAME:CST
DTSTART:20191103T070000
END:STANDARD
BEGIN:DAYLIGHT
TZOFFSETFROM:-0600
TZOFFSETTO:-0500
TZNAME:CDT
DTSTART:20200308T080000
END:DAYLIGHT
BEGIN:STANDARD
TZOFFSETFROM:-0500
TZOFFSETTO:-0600
TZNAME:CST
DTSTART:20201101T070000
END:STANDARD
BEGIN:DAYLIGHT
TZOFFSETFROM:-0600
TZOFFSETTO:-0500
TZNAME:CDT
DTSTART:20210314T080000
END:DAYLIGHT
BEGIN:STANDARD
TZOFFSETFROM:-0500
TZOFFSETTO:-0600
TZNAME:CST
DTSTART:20211107T070000
END:STANDARD
BEGIN:DAYLIGHT
TZOFFSETFROM:-0600
TZOFFSETTO:-0500
TZNAME:CDT
DTSTART:20220313T080000
END:DAYLIGHT
BEGIN:STANDARD
TZOFFSETFROM:-0500
TZOFFSETTO:-0600
TZNAME:CST
DTSTART:20221106T070000
END:STANDARD
BEGIN:DAYLIGHT
TZOFFSETFROM:-0600
TZOFFSETTO:-0500
TZNAME:CDT
DTSTART:20230312T080000
END:DAYLIGHT
BEGIN:STANDARD
TZOFFSETFROM:-0500
TZOFFSETTO:-0600
TZNAME:CST
DTSTART:20231105T070000
END:STANDARD
BEGIN:DAYLIGHT
TZOFFSETFROM:-0600
TZOFFSETTO:-0500
TZNAME:CDT
DTSTART:20240310T080000
END:DAYLIGHT
BEGIN:STANDARD
TZOFFSETFROM:-0500
TZOFFSETTO:-0600
TZNAME:CST
DTSTART:20241103T070000
END:STANDARD
BEGIN:DAYLIGHT
TZOFFSETFROM:-0600
TZOFFSETTO:-0500
TZNAME:CDT
DTSTART:20250309T080000
END:DAYLIGHT
BEGIN:STANDARD
TZOFFSETFROM:-0500
TZOFFSETTO:-0600
TZNAME:CST
DTSTART:20251102T070000
END:STANDARD
BEGIN:DAYLIGHT
TZOFFSETFROM:-0600
TZOFFSETTO:-0500
TZNAME:CDT
DTSTART:20260308T080000
END:DAYLIGHT
BEGIN:STANDARD
TZOFFSETFROM:-0500
TZOFFSETTO:-0600
TZNAME:CST
DTSTART:20261101T070000
END:STANDARD
END:VTIMEZONE
BEGIN:VEVENT
DTSTART;TZID=America/Chicago:20251224T153000
DTEND;TZID=America/Chicago:20251224T193000
DTSTAMP:20260424T173549
CREATED:20251120T143044Z
LAST-MODIFIED:20251120T143123Z
UID:9730-1766590200-1766604600@www.macc.ws
SUMMARY:Christmas Eve Dinner & Service
DESCRIPTION:  \nChristmas Eve Dinner & Service \n\nDinner Reservations – Taking calls from 11/24-12/10 during regular office hours (Monday-Thursday from 8 a.m. – 4 p.m.)\nDinner – Wednesday\, December 24\n\nPick Up at south doors (off Harmony Lane) from 3:30-5:00 p.m.\nDeliveries from 3:30 – 5:00 p.m. within Macomb city limits only\nDine-In in MACC Atrium from 4:45-5:30 p.m.\nMenu: Ham\, potatoes\, green beans\, roll\, and dessert\n\n\nService – 6:30 p.m. in Worship Center
URL:https://www.macc.ws/event/evedinnerservice/
LOCATION:Maple Avenue Christian Church\, 1300 Maple Avenue\, Macomb\, IL\, 61455\, United States
CATEGORIES:Adult,Fellowship,Fun,Kids Konnection,MACC Students,New To MACC,Worship Ministry
ATTACH;FMTTYPE=image/jpeg:https://www.macc.ws/wp-content/uploads/2025/11/3.jpg
END:VEVENT
BEGIN:VEVENT
DTSTART;TZID=America/Chicago:20220612T080000
DTEND;TZID=America/Chicago:20220612T170000
DTSTAMP:20260424T173549
CREATED:20220601T150622Z
LAST-MODIFIED:20220601T162558Z
UID:5285-1655020800-1655053200@www.macc.ws
SUMMARY:The Kramers in Concert
DESCRIPTION:Don’t miss seeing the fabulous Kramers in Concert at Maple Avenue Christian Church\, Sunday\, June 12\, from 5:00-6:00 p.m. This is a great way to wind up your Sunday\, and will appeal to all ages! There is no charge for admission\, but a love offering will be collected.  \nThe Kramers are a national and international gospel music family group currently touring and ministering at 150 events per year. Members are Scott Kramer (vocals\, guitar\, keyboards) Rachel West Kramer (vocals)\, Maria Kramer Wolfe (daughter – vocals\, ukulele\, mandolin\, piano\, guitar) and Ben Wolfe (bass guitar). \nThe Kramers in Concert at MACC June 12\, 5:00-6:00 p.m.
URL:https://www.macc.ws/event/the-kramers-in-concert/
LOCATION:Maple Avenue Christian Church\, 1300 Maple Avenue\, Macomb\, IL\, 61455\, United States
CATEGORIES:Fun,Worship Ministry
ATTACH;FMTTYPE=image/jpeg:https://www.macc.ws/wp-content/uploads/2022/06/the-kramers-in-concert-061222-flyer-e1654100722518.jpg
END:VEVENT
BEGIN:VEVENT
DTSTART;TZID=America/Chicago:20220415T190000
DTEND;TZID=America/Chicago:20220415T200000
DTSTAMP:20260424T173549
CREATED:20220411T140520Z
LAST-MODIFIED:20220411T142720Z
UID:5127-1650049200-1650052800@www.macc.ws
SUMMARY:Tenebrae Service at MACC\, Friday\, April 15\, 7:00 p.m.
DESCRIPTION:Tenebrae Service at MACC\, Friday\, April 15\, 7:00 p.m. \nThe word “Tenebrae” comes from the Latin meaning “darkness”. This solemn service is an ancient Christian Good Friday service where candles are gradually extinguished throughout the evening to symbolize the events of the week in between Palm Sunday entry through Jesus’ burial. The increasing darkness symbolizes the approaching darkness of Jesus’ death and of hopelessness in the world without God. It’s a meaningful time creating tension and anticipation of the resurrection of Jesus Christ.
URL:https://www.macc.ws/event/tenebrae-service-at-macc-friday-april-15-700-p-m/
LOCATION:Maple Avenue Christian Church\, 1300 Maple Avenue\, Macomb\, IL\, 61455\, United States
CATEGORIES:Worship Ministry
ATTACH;FMTTYPE=image/jpeg:https://www.macc.ws/wp-content/uploads/2022/04/tenebrae.jpg
END:VEVENT
BEGIN:VEVENT
DTSTART;TZID=America/Chicago:20220413T180000
DTEND;TZID=America/Chicago:20220413T200000
DTSTAMP:20260424T173549
CREATED:20220313T131548Z
LAST-MODIFIED:20220313T131548Z
UID:5044-1649872800-1649880000@www.macc.ws
SUMMARY:Passover Dinner April 13\, 2022
DESCRIPTION:
URL:https://www.macc.ws/event/passover-dinner-april-13-2022/
LOCATION:Maple Avenue Christian Church\, 1300 Maple Avenue\, Macomb\, IL\, 61455\, United States
CATEGORIES:Worship Ministry
ATTACH;FMTTYPE=image/jpeg:https://www.macc.ws/wp-content/uploads/2022/03/passoverad2022.jpg
END:VEVENT
BEGIN:VEVENT
DTSTART;TZID=America/Chicago:20200410T190000
DTEND;TZID=America/Chicago:20200410T193000
DTSTAMP:20260424T173549
CREATED:20200408T181928Z
LAST-MODIFIED:20200408T182139Z
UID:2744-1586545200-1586547000@www.macc.ws
SUMMARY:TENEBRAE
DESCRIPTION:“The word “Tenebrae” comes from the Latin meaning “darkness”. This solemn service is an ancient Christian Good Friday service where candles are gradually extinguished throughout the evening to symbolize the events of the week in between Palm Sunday entry through Jesus’ burial. It’s a meaningful time creating tension and anticipation of the resurrection of Jesus Christ. \nEven though we cannot gather to take part in the Tenebrae service in person\, we will still have a recorded version Friday\, April 10th at 7 pm. \nhttps://www.macc.ws/blog-post/tenebrae-service/
URL:https://www.macc.ws/event/tenebrae/
LOCATION:IL
CATEGORIES:Worship Ministry
ATTACH;FMTTYPE=image/jpeg:https://www.macc.ws/wp-content/uploads/2020/04/Tenebrae-2019-1.jpg
END:VEVENT
BEGIN:VEVENT
DTSTART;TZID=America/Chicago:20200226T183000
DTEND;TZID=America/Chicago:20200226T193000
DTSTAMP:20260424T173549
CREATED:20190115T163831Z
LAST-MODIFIED:20200127T163530Z
UID:1192-1582741800-1582745400@www.macc.ws
SUMMARY:Worship Night of Sharing
DESCRIPTION:Bring an instrument\, your voice\, or both and share a song with your church family using your gifts and talents! Everyone is welcome to attend. \nBe sure to register by clicking the link below\, or talk to Caitlin Martin directly-cmartin@macc.ws. \n  \nhttps://macc.breezechms.com/form/99605a202 \n 
URL:https://www.macc.ws/event/worship-night-of-sharing/
LOCATION:Maple Avenue Christian Church\, 1300 Maple Avenue\, Macomb\, IL\, 61455\, United States
CATEGORIES:Worship Ministry
ATTACH;FMTTYPE=image/jpeg:https://www.macc.ws/wp-content/uploads/2019/01/Worship-Night-of-Sharing.jpg
END:VEVENT
END:VCALENDAR