BEGIN:VCALENDAR
VERSION:2.0
PRODID:-// - ECPv6.15.13.1//NONSGML v1.0//EN
CALSCALE:GREGORIAN
METHOD:PUBLISH
X-ORIGINAL-URL:https://www.macc.ws
X-WR-CALDESC:Events for 
REFRESH-INTERVAL;VALUE=DURATION:PT1H
X-Robots-Tag:noindex
X-PUBLISHED-TTL:PT1H
BEGIN:VTIMEZONE
TZID:America/Chicago
BEGIN:DAYLIGHT
TZOFFSETFROM:-0600
TZOFFSETTO:-0500
TZNAME:CDT
DTSTART:20170312T080000
END:DAYLIGHT
BEGIN:STANDARD
TZOFFSETFROM:-0500
TZOFFSETTO:-0600
TZNAME:CST
DTSTART:20171105T070000
END:STANDARD
BEGIN:DAYLIGHT
TZOFFSETFROM:-0600
TZOFFSETTO:-0500
TZNAME:CDT
DTSTART:20180311T080000
END:DAYLIGHT
BEGIN:STANDARD
TZOFFSETFROM:-0500
TZOFFSETTO:-0600
TZNAME:CST
DTSTART:20181104T070000
END:STANDARD
BEGIN:DAYLIGHT
TZOFFSETFROM:-0600
TZOFFSETTO:-0500
TZNAME:CDT
DTSTART:20190310T080000
END:DAYLIGHT
BEGIN:STANDARD
TZOFFSETFROM:-0500
TZOFFSETTO:-0600
TZNAME:CST
DTSTART:20191103T070000
END:STANDARD
BEGIN:DAYLIGHT
TZOFFSETFROM:-0600
TZOFFSETTO:-0500
TZNAME:CDT
DTSTART:20200308T080000
END:DAYLIGHT
BEGIN:STANDARD
TZOFFSETFROM:-0500
TZOFFSETTO:-0600
TZNAME:CST
DTSTART:20201101T070000
END:STANDARD
END:VTIMEZONE
BEGIN:VEVENT
DTSTART;TZID=America/Chicago:20190731T210000
DTEND;TZID=America/Chicago:20190731T230000
DTSTAMP:20260424T010811
CREATED:20190521T212602Z
LAST-MODIFIED:20190627T145007Z
UID:1597-1564606800-1564614000@www.macc.ws
SUMMARY:Movie Night
DESCRIPTION:On Wednesday\, July 31 join us for Movie Night. We will be watching “Willy Wonka and the Chocolate Factory!” We will also have a Wonka Candy Bar and Popcorn! \n#maccstudents2019
URL:https://www.macc.ws/event/movie-night/
CATEGORIES:MACC Students
ATTACH;FMTTYPE=image/jpeg:https://www.macc.ws/wp-content/uploads/2019/05/main.jpg
END:VEVENT
BEGIN:VEVENT
DTSTART;TZID=America/Chicago:20190729T180000
DTEND;TZID=America/Chicago:20190801T200000
DTSTAMP:20260424T010811
CREATED:20190521T212017Z
LAST-MODIFIED:20190521T215138Z
UID:1595-1564423200-1564689600@www.macc.ws
SUMMARY:Service Week
DESCRIPTION:All students\, 6th – 12th grade\, are encouraged to serve at MACC VBS the week of July 29 – August 1\, 2019 6 – 8pm. \n#maccstudents2019
URL:https://www.macc.ws/event/service-week/
CATEGORIES:MACC Students
ATTACH;FMTTYPE=image/jpeg:https://www.macc.ws/wp-content/uploads/2019/05/Time_Lab_Logo_White_Tagline.jpg
END:VEVENT
BEGIN:VEVENT
DTSTART;TZID=America/Chicago:20190710T180000
DTEND;TZID=America/Chicago:20190807T200000
DTSTAMP:20260424T010811
CREATED:20190521T211701Z
LAST-MODIFIED:20190521T215158Z
UID:1592-1562781600-1565208000@www.macc.ws
SUMMARY:Free People
DESCRIPTION:Join us Wednesdays\, July 10 – August 7 for our study\, “Free People” at MACC 6 – 8pm. \nRec Time\, Food\, Big Group\, Small Group. \n#maccstudents2019
URL:https://www.macc.ws/event/free-people/
CATEGORIES:MACC Students
ATTACH;FMTTYPE=image/jpeg:https://www.macc.ws/wp-content/uploads/2019/05/TitleSlide_FreePeople_XP3HS.jpg
END:VEVENT
BEGIN:VEVENT
DTSTART;TZID=America/Chicago:20190703T190000
DTEND;TZID=America/Chicago:20190703T230000
DTSTAMP:20260424T010811
CREATED:20190624T201026Z
LAST-MODIFIED:20190624T202134Z
UID:1723-1562180400-1562194800@www.macc.ws
SUMMARY:Bonfire & Fireworks
DESCRIPTION:Meet at MACC at 7pm for the Bonfire and then we will ride over to Raritan for Fireworks. We should be home around 11pm. \nPlease sign up by clicking the link below so we can have appropriate transportation! \n#maccstudents2019 \nhttps://macc.breezechms.com/form/43e7ea193617469915
URL:https://www.macc.ws/event/bonfire-fireworks/
LOCATION:Maple Avenue Christian Church\, 1300 Maple Avenue\, Macomb\, IL\, 61455\, United States
CATEGORIES:MACC Students
ATTACH;FMTTYPE=image/jpeg:https://www.macc.ws/wp-content/uploads/2019/05/fireworks-180553_1280.jpg
END:VEVENT
BEGIN:VEVENT
DTSTART;TZID=America/Chicago:20190612T180000
DTEND;TZID=America/Chicago:20190626T200000
DTSTAMP:20260424T010811
CREATED:20190521T210545Z
LAST-MODIFIED:20190521T215258Z
UID:1586-1560362400-1561579200@www.macc.ws
SUMMARY:See No Evil
DESCRIPTION:Join us Wednesday nights June 12th\, 19th\, and 26th for our study “See No Evil” 6 – 8pm @ MACC. \nRec Time\, Food\, Big Group\, Small Group\n#maccstudents2019
URL:https://www.macc.ws/event/see-no-evil/
CATEGORIES:MACC Students
ATTACH;FMTTYPE=image/jpeg:https://www.macc.ws/wp-content/uploads/2019/05/TitleSlide_SeeNoEvil_XP3HS.jpg
END:VEVENT
BEGIN:VEVENT
DTSTART;TZID=America/Chicago:20190605T100000
DTEND;TZID=America/Chicago:20190605T190000
DTSTAMP:20260424T010811
CREATED:20190521T203354Z
LAST-MODIFIED:20190521T215322Z
UID:1583-1559728800-1559761200@www.macc.ws
SUMMARY:Fun City Water Park
DESCRIPTION:Admission to the water park is free for students 6th-12th grade. We will meet at MACC at 10am and return at 7pm. Bring money for lunch. Supper is free.  Modest is Bestest: one-piece swimsuits\, please. \n#maccstudents2019
URL:https://www.macc.ws/event/fun-city-water-park/
CATEGORIES:MACC Students
ATTACH;FMTTYPE=image/png:https://www.macc.ws/wp-content/uploads/2019/03/FUN-CITY.png
END:VEVENT
BEGIN:VEVENT
DTSTART;TZID=America/Chicago:20181231T220000
DTEND;TZID=America/Chicago:20190101T070000
DTSTAMP:20260424T010811
CREATED:20181202T152200Z
LAST-MODIFIED:20181202T152252Z
UID:1083-1546293600-1546326000@www.macc.ws
SUMMARY:Midnight Madness
DESCRIPTION:If you are a student in 6th-12th grade\, you won’t want to miss Midnight Madness\, an overnight event on New Years Eve at MACC. There will be food\, games\, an inflatable\, and teaching. Cost is $25\, sign up online today. \n 
URL:https://www.macc.ws/event/midnight-madness/
LOCATION:Maple Avenue Christian Church\, 1300 Maple Avenue\, Macomb\, IL\, 61455\, United States
CATEGORIES:MACC Students
END:VEVENT
BEGIN:VEVENT
DTSTART;TZID=America/Chicago:20181119T090000
DTEND;TZID=America/Chicago:20181119T170000
DTSTAMP:20260424T010811
CREATED:20181113T155851Z
LAST-MODIFIED:20181113T155851Z
UID:1025-1542618000-1542646800@www.macc.ws
SUMMARY:Maple Avenue Student Ministries (Jr/Sr High) Quincy Trip
DESCRIPTION:Join us November 19 from 9 AM to 5 PM on a road trip to Quincy\, IL. We will have a blast at Scottie’s Fun Spot playing laser tag\, bumper cars\, roller skating\, go-karts\, and video games in the arcade. Also\, we’ll head to the Kroc Center to swim in the pool and float the lazy river. The cost for this event is $30 and space is limited. The Student Ministries Quincy Trip is for students in grades 6-12. We will depart from and return to Maple Avenue Christian Church. \nRegister here:\nhttps://macc.breezechms.com/form/43e7ea193617469
URL:https://www.macc.ws/event/maple-avenue-student-ministries-jr-sr-high-quincy-trip/
CATEGORIES:MACC Students
END:VEVENT
BEGIN:VEVENT
DTSTART;TZID=America/Chicago:20180809T090000
DTEND;TZID=America/Chicago:20180809T170000
DTSTAMP:20260424T010811
CREATED:20180807T171420Z
LAST-MODIFIED:20180807T171420Z
UID:756-1533805200-1533834000@www.macc.ws
SUMMARY:Fun City Water Park Trip
DESCRIPTION:All 6th-12th grade students are invited to join us on August 9th as we head to Fun City outdoor water park. Only $5 to get in! We will leave from Maple Avenue Christian church at 9:00am and return by 5:00pm.  Please pack Sunscreen\, a towel\, and money for lunch and snacks.  \nCost: $5.00 + lunch and snack money
URL:https://www.macc.ws/event/fun-city-water-park-trip/
CATEGORIES:MACC Students
END:VEVENT
BEGIN:VEVENT
DTSTART;TZID=America/Chicago:20180726T180000
DTEND;TZID=America/Chicago:20180726T200000
DTSTAMP:20260424T010811
CREATED:20180525T053838Z
LAST-MODIFIED:20180525T055738Z
UID:379-1532628000-1532635200@www.macc.ws
SUMMARY:The Summit
DESCRIPTION:We hope all students(6th-12th grade) will come join us for a surprise activity. It is sure to be the high point of their week. Parents-feel free to contact us for details on each week’s activity.
URL:https://www.macc.ws/event/the-summit-6/
CATEGORIES:MACC Students
ATTACH;FMTTYPE=image/jpeg:https://www.macc.ws/wp-content/uploads/2018/05/summit.jpg
END:VEVENT
BEGIN:VEVENT
DTSTART;TZID=America/Chicago:20180723T080000
DTEND;TZID=America/Chicago:20180724T220000
DTSTAMP:20260424T010811
CREATED:20180525T061040Z
LAST-MODIFIED:20180525T061040Z
UID:395-1532332800-1532469600@www.macc.ws
SUMMARY:St. Louis Trip
DESCRIPTION:All 6th-12th grade students are invited to join us for a fun overnight adventure to St. Louis\, MO. We will spend time at the St. Louis Zoo\, shop at the mall\, and spend a day at Six Flags St. Louis. Lodging will be provided by a local church. Sign up online by July 3rd. \nMore details coming soon.
URL:https://www.macc.ws/event/st-louis-trip/
LOCATION:St. Louis\, MO\, St. Louis\, MO\, 63036
CATEGORIES:MACC Students
ATTACH;FMTTYPE=image/png:https://www.macc.ws/wp-content/uploads/2018/05/stltrip.png
END:VEVENT
BEGIN:VEVENT
DTSTART;TZID=America/Chicago:20180719T080000
DTEND;TZID=America/Chicago:20180719T170000
DTSTAMP:20260424T010811
CREATED:20180525T053750Z
LAST-MODIFIED:20180525T055800Z
UID:377-1531987200-1532019600@www.macc.ws
SUMMARY:The Summit
DESCRIPTION:We hope all students(6th-12th grade) will come join us for a surprise activity. It is sure to be the high point of their week. Parents-feel free to contact us for details on each week’s activity.
URL:https://www.macc.ws/event/the-summit-5/
CATEGORIES:MACC Students
ATTACH;FMTTYPE=image/jpeg:https://www.macc.ws/wp-content/uploads/2018/05/summit.jpg
END:VEVENT
BEGIN:VEVENT
DTSTART;TZID=America/Chicago:20180712T180000
DTEND;TZID=America/Chicago:20180712T200000
DTSTAMP:20260424T010811
CREATED:20180525T053713Z
LAST-MODIFIED:20180525T055821Z
UID:375-1531418400-1531425600@www.macc.ws
SUMMARY:The Summit
DESCRIPTION:We hope all students(6th-12th grade) will come join us for a surprise activity. It is sure to be the high point of their week. Parents-feel free to contact us for details on each week’s activity.
URL:https://www.macc.ws/event/the-summit-4/
CATEGORIES:MACC Students
ATTACH;FMTTYPE=image/jpeg:https://www.macc.ws/wp-content/uploads/2018/05/summit.jpg
END:VEVENT
BEGIN:VEVENT
DTSTART;TZID=America/Chicago:20180702T180000
DTEND;TZID=America/Chicago:20180702T210000
DTSTAMP:20260424T010811
CREATED:20180525T055453Z
LAST-MODIFIED:20180525T055453Z
UID:384-1530554400-1530565200@www.macc.ws
SUMMARY:Game Night
DESCRIPTION:6th-12th grade students are invited to join us for a night full of fun and games. Bring your favorite board game and a snack to share. \n 
URL:https://www.macc.ws/event/game-night/
LOCATION:Foltz Household\, 332 E Summit St\, Macomb\, IL\, 61455-3224\, United States
CATEGORIES:MACC Students
ATTACH;FMTTYPE=image/png:https://www.macc.ws/wp-content/uploads/2018/05/gamenight.png
END:VEVENT
BEGIN:VEVENT
DTSTART;TZID=America/Chicago:20180628T080000
DTEND;TZID=America/Chicago:20180628T170000
DTSTAMP:20260424T010811
CREATED:20180525T053329Z
LAST-MODIFIED:20180525T055644Z
UID:372-1530172800-1530205200@www.macc.ws
SUMMARY:The Summit
DESCRIPTION:We hope all students(6th-12th grade) will come join us for a surprise activity. It is sure to be the high point of their week. Parents-feel free to contact us for details on each week’s activity.
URL:https://www.macc.ws/event/the-summit-3/
LOCATION:Maple Avenue Christian Church\, 1300 Maple Avenue\, Macomb\, IL\, 61455\, United States
CATEGORIES:MACC Students
ATTACH;FMTTYPE=image/jpeg:https://www.macc.ws/wp-content/uploads/2018/05/summit.jpg
END:VEVENT
BEGIN:VEVENT
DTSTART;TZID=America/Chicago:20180607T180000
DTEND;TZID=America/Chicago:20180607T200000
DTSTAMP:20260424T010811
CREATED:20180525T053153Z
LAST-MODIFIED:20180525T055628Z
UID:368-1528394400-1528401600@www.macc.ws
SUMMARY:The Summit
DESCRIPTION:We hope all students(6th-12th grade) will come join us for a surprise activity. It is sure to be the high point of their week. Parents-feel free to contact us for details on each week’s activity.
URL:https://www.macc.ws/event/the-summit-2/
LOCATION:Maple Avenue Christian Church\, 1300 Maple Avenue\, Macomb\, IL\, 61455\, United States
CATEGORIES:MACC Students
ATTACH;FMTTYPE=image/jpeg:https://www.macc.ws/wp-content/uploads/2018/05/summit.jpg
END:VEVENT
BEGIN:VEVENT
DTSTART;TZID=America/Chicago:20180531T180000
DTEND;TZID=America/Chicago:20180531T200000
DTSTAMP:20260424T010811
CREATED:20180525T053002Z
LAST-MODIFIED:20180525T055610Z
UID:364-1527789600-1527796800@www.macc.ws
SUMMARY:The Summit
DESCRIPTION:We hope all students(6th-12th grade) will come join us for a surprise activity. It is sure to be the high point of their week. Parents-feel free to contact us for details on each week’s activity.
URL:https://www.macc.ws/event/the-summit/
LOCATION:Maple Avenue Christian Church\, 1300 Maple Avenue\, Macomb\, IL\, 61455\, United States
CATEGORIES:MACC Students
ATTACH;FMTTYPE=image/jpeg:https://www.macc.ws/wp-content/uploads/2018/05/summit.jpg
END:VEVENT
END:VCALENDAR